BEGIN:VCALENDAR
VERSION:2.0
PRODID:-//RIGHTHERE//CALENDARIZE IT V3.2//EN
BEGIN:VEVENT
UID:7542-events@usba.cc
DTSTART:20210205T110000Z
DTEND:20210205T134500Z
DTSTAMP:20190123T214451Z
SUMMARY:JLC Meeting
RDATE;VALUE=PERIOD:20240112T110000/20240112T140000,20240119T110000/20240119
 T140000,20240126T110000/20240126T140000,20240202T110000/20240202T140000,20
 240209T110000/20240209T140000,20240216T110000/20240216T140000,20240223T110
 000/20240223T140000,20240301T110000/20240301T140000,20250124T110000/202501
 24T140000,20250131T110000/20250131T140000,20250207T110000/20250207T140000,
 20250214T110000/20250214T140000,20250221T110000/20250221T140000,20250228T1
 10000/20250228T140000,20260123T110000/20260123T134500,20260130T110000/2026
 0130T134500,20260206T110000/20260206T134500,20260213T110000/20260213T13450
 0,20260220T110000/20260220T134500,20260227T110000/20260227T134500
URL:https://usba.cc/events/jlc/
END:VEVENT
END:VCALENDAR