BEGIN:VCALENDAR
VERSION:2.0
PRODID:-//RIGHTHERE//CALENDARIZE IT V3.2//EN
BEGIN:VEVENT
UID:7676-events@usba.cc
DTSTART;VALUE=DATE:20190815
DTEND;VALUE=DATE:20190819
DTSTAMP:20190417T221321Z
SUMMARY:NSBA Summer Conference
RDATE;VALUE=PERIOD:20220402T000000/20220402T000000,20220403T000000/20220403
 T000000
URL:https://usba.cc/events/nsba-summer-leadership-seminar/
END:VEVENT
END:VCALENDAR