BEGIN:VCALENDAR
VERSION:2.0
PRODID:-//RIGHTHERE//CALENDARIZE IT V3.2//EN
BEGIN:VEVENT
UID:7717-events@usba.cc
DTSTART:20221005T180000Z
DTEND:20221005T200000Z
DTSTAMP:20190828T171630Z
SUMMARY:Sandy Fall Regional Meeting
RDATE;VALUE=PERIOD:20210923T180000/20210923T180000,20240925T180000/20240925
 T200000,20250917T180000/20250917T200000
URL:https://usba.cc/events/sandy-fall-regional-meeting/
END:VEVENT
END:VCALENDAR