BEGIN:VCALENDAR
VERSION:2.0
PRODID:-//RIGHTHERE//CALENDARIZE IT V3.2//EN
BEGIN:VEVENT
UID:7733-events@usba.cc
DTSTART:20191030T180000Z
DTEND:20191030T200000Z
DTSTAMP:20190828T172549Z
SUMMARY:Richfield Fall Regional Meeting
RDATE;VALUE=PERIOD:20210922T180000/20210922T180000,20220922T180000/20220922
 T180000,20240924T180000/20240924T200000,20250930T180000/20250930T200000
URL:https://usba.cc/events/richfield-fall-regional-meeting/
END:VEVENT
END:VCALENDAR